BEGIN:VCALENDAR
VERSION:2.0
PRODID:-//Hist og//Jazzahead 2026//EN
BEGIN:VEVENT
DTSTART:20260424T191000Z
DTEND:20260424T201000Z
SUMMARY:Hist og – Nordic Clubnight at Jazzahead!
DESCRIPTION:Nordic Clubnight at Jazzahead! feat. Hist og\nKulturzentrum Lagerhaus\, Bremen
LOCATION:Kulturzentrum Lagerhaus, Schildstraße 12-19, 28203 Bremen, Germany
URL:https://maps.app.goo.gl/PGmAHFt89888FQYo9?g_st=ic
END:VEVENT
END:VCALENDAR
